BEGIN:VCALENDAR
VERSION:2.0
PRODID:-//Mairie Saint-Clément-des-Baleines - ECPv6.15.20//NONSGML v1.0//EN
CALSCALE:GREGORIAN
METHOD:PUBLISH
X-ORIGINAL-URL:https://saintclementdesbaleines.fr
X-WR-CALDESC:Évènements pour Mairie Saint-Clément-des-Baleines
REFRESH-INTERVAL;VALUE=DURATION:PT1H
X-Robots-Tag:noindex
X-PUBLISHED-TTL:PT1H
BEGIN:VTIMEZONE
TZID:Europe/Paris
BEGIN:DAYLIGHT
TZOFFSETFROM:+0100
TZOFFSETTO:+0200
TZNAME:CEST
DTSTART:20240331T010000
END:DAYLIGHT
BEGIN:STANDARD
TZOFFSETFROM:+0200
TZOFFSETTO:+0100
TZNAME:CET
DTSTART:20241027T010000
END:STANDARD
BEGIN:DAYLIGHT
TZOFFSETFROM:+0100
TZOFFSETTO:+0200
TZNAME:CEST
DTSTART:20250330T010000
END:DAYLIGHT
BEGIN:STANDARD
TZOFFSETFROM:+0200
TZOFFSETTO:+0100
TZNAME:CET
DTSTART:20251026T010000
END:STANDARD
BEGIN:DAYLIGHT
TZOFFSETFROM:+0100
TZOFFSETTO:+0200
TZNAME:CEST
DTSTART:20260329T010000
END:DAYLIGHT
BEGIN:STANDARD
TZOFFSETFROM:+0200
TZOFFSETTO:+0100
TZNAME:CET
DTSTART:20261025T010000
END:STANDARD
END:VTIMEZONE
BEGIN:VEVENT
DTSTART;TZID=Europe/Paris:20250407T143000
DTEND;TZID=Europe/Paris:20250412T173000
DTSTAMP:20260423T102602
CREATED:20250326T144408Z
LAST-MODIFIED:20250326T144409Z
UID:7330-1744036200-1744479000@saintclementdesbaleines.fr
SUMMARY:Exposition "Insectes – Quand art et science font connaissance "
DESCRIPTION:Dans le cadre du mois de l’environnement\, l’association Ré Nature Environnement propose une exposition de photographies\, de réalisationsdes élèves de l’école primaire des Portes-en-Ré et de panneaux scientifiques sur les insectes.Du Lundi 7 au Samedi 12 avril : 14h30 – 17h30Salle municipale (près de la mairie)
URL:https://saintclementdesbaleines.fr/event/exposition-insectes-quand-art-et-science-font-connaissance/
LOCATION:Salle municipale\, Mairie de Saint-Clément-des-Baleines\, Salle municipale\, Saint-Clément-des-Baleines\, 17590\, France
ATTACH;FMTTYPE=image/png:https://saintclementdesbaleines.fr/wp-content/uploads/2025/03/Affiche-festival-insectes-2025.png
END:VEVENT
BEGIN:VEVENT
DTSTART;TZID=Europe/Paris:20250408T200000
DTEND;TZID=Europe/Paris:20250408T220000
DTSTAMP:20260423T102602
CREATED:20250402T075306Z
LAST-MODIFIED:20250402T075358Z
UID:7336-1744142400-1744149600@saintclementdesbaleines.fr
SUMMARY:Match Basket
DESCRIPTION:Venez soutenir votre équipe !
URL:https://saintclementdesbaleines.fr/event/match-basket-28-04-2025/
LOCATION:Salle Albert PROFILET – le Godinand\, rue du Godinand\, Saint-Clément-des-Baleines\, 17590\, France
ATTACH;FMTTYPE=image/jpeg:https://saintclementdesbaleines.fr/wp-content/uploads/2025/04/Basket-08-04-2025.jpg
END:VEVENT
BEGIN:VEVENT
DTSTART;TZID=Europe/Paris:20250414T180000
DTEND;TZID=Europe/Paris:20250414T193000
DTSTAMP:20260423T102602
CREATED:20250325T154125Z
LAST-MODIFIED:20250408T173209Z
UID:7323-1744653600-1744659000@saintclementdesbaleines.fr
SUMMARY:Conférence "Et l'Homme rencontra le coquillage"
DESCRIPTION:Pascal Gauduchon et Ré Nature Environnement vous proposent une conférence passionnante « Et l’Homme rencontra le COQUILLAGE… » \n\n\n\nTout ce que vous avez toujours voulu savoir sur ces animaux si familiers et si mystérieux. \n\n\n\nRetrouvez également lors de cette conférence\, les œuvres de Sabine Franel réalisées à partir de coquillages et d’objets récoltés dans les laisses de mer – « Sculpture Océane »
URL:https://saintclementdesbaleines.fr/event/conference-et-lhomme-rencontra-le-coquillage/
LOCATION:Salle municipale\, Mairie de Saint-Clément-des-Baleines\, Salle municipale\, Saint-Clément-des-Baleines\, 17590\, France
ATTACH;FMTTYPE=image/png:https://saintclementdesbaleines.fr/wp-content/uploads/2025/03/Coquillages-Conference-St-Clement-14-avril-2025-1.png
END:VEVENT
BEGIN:VEVENT
DTSTART;TZID=Europe/Paris:20250426T200000
DTEND;TZID=Europe/Paris:20250426T220000
DTSTAMP:20260423T102602
CREATED:20250326T142727Z
LAST-MODIFIED:20250326T142830Z
UID:7327-1745697600-1745704800@saintclementdesbaleines.fr
SUMMARY:LOTO du Comité des Fêtes Villageoises
DESCRIPTION:
URL:https://saintclementdesbaleines.fr/event/loto-du-comite-des-fetes-villageoises-avril2025/
LOCATION:Salle Albert PROFILET – le Godinand\, rue du Godinand\, Saint-Clément-des-Baleines\, 17590\, France
ATTACH;FMTTYPE=image/jpeg:https://saintclementdesbaleines.fr/wp-content/uploads/2025/03/Affiche-LOTO-26-avril-2025.jpg
END:VEVENT
END:VCALENDAR