BEGIN:VCALENDAR
VERSION:2.0
PRODID:-//Mairie Saint-Clément-des-Baleines - ECPv6.15.20//NONSGML v1.0//EN
CALSCALE:GREGORIAN
METHOD:PUBLISH
X-ORIGINAL-URL:https://saintclementdesbaleines.fr
X-WR-CALDESC:Évènements pour Mairie Saint-Clément-des-Baleines
REFRESH-INTERVAL;VALUE=DURATION:PT1H
X-Robots-Tag:noindex
X-PUBLISHED-TTL:PT1H
BEGIN:VTIMEZONE
TZID:Europe/Paris
BEGIN:DAYLIGHT
TZOFFSETFROM:+0100
TZOFFSETTO:+0200
TZNAME:CEST
DTSTART:20240331T010000
END:DAYLIGHT
BEGIN:STANDARD
TZOFFSETFROM:+0200
TZOFFSETTO:+0100
TZNAME:CET
DTSTART:20241027T010000
END:STANDARD
BEGIN:DAYLIGHT
TZOFFSETFROM:+0100
TZOFFSETTO:+0200
TZNAME:CEST
DTSTART:20250330T010000
END:DAYLIGHT
BEGIN:STANDARD
TZOFFSETFROM:+0200
TZOFFSETTO:+0100
TZNAME:CET
DTSTART:20251026T010000
END:STANDARD
BEGIN:DAYLIGHT
TZOFFSETFROM:+0100
TZOFFSETTO:+0200
TZNAME:CEST
DTSTART:20260329T010000
END:DAYLIGHT
BEGIN:STANDARD
TZOFFSETFROM:+0200
TZOFFSETTO:+0100
TZNAME:CET
DTSTART:20261025T010000
END:STANDARD
END:VTIMEZONE
BEGIN:VEVENT
DTSTART;TZID=Europe/Paris:20250517T090000
DTEND;TZID=Europe/Paris:20250517T133000
DTSTAMP:20260423T115116
CREATED:20250429T201734Z
LAST-MODIFIED:20250429T201736Z
UID:7372-1747472400-1747488600@saintclementdesbaleines.fr
SUMMARY:Together Race
DESCRIPTION:Une course associative\, éco-responsable\, solidaire et engagée\, c’est à Saint-Clément le 17 mai 2025 !Together Race au profit des associations « Comme les Autres » et « Blutopia »https://www.je-collectif.org/
URL:https://saintclementdesbaleines.fr/event/together-race/
ATTACH;FMTTYPE=image/png:https://saintclementdesbaleines.fr/wp-content/uploads/2025/04/Together-Race.png
END:VEVENT
BEGIN:VEVENT
DTSTART;TZID=Europe/Paris:20250524T170000
DTEND;TZID=Europe/Paris:20250524T235900
DTSTAMP:20260423T115116
CREATED:20250423T202328Z
LAST-MODIFIED:20250430T163304Z
UID:7366-1748106000-1748131140@saintclementdesbaleines.fr
SUMMARY:Le Printemps des Baleines - La fête des Villageois
DESCRIPTION:La fête des Villageois !  \n\n\n\nDès 17h\, de nombreuses activités proposées par les associations\, les Villageois et les Villageois de cœur et la mairie de Saint-Clément-des-Baleines. Concert de « TEO FLAMENCO » et du chœur de femmes « IAVNANA »\, danse du feu de VINYE.un quiz\, des jeux\, de la musique\, des chansons\, des mots\, des photos\, des surprises mais avant tout un moment de convivialité autour d’un barbecue partagé: apportez vos légumes et viandes à griller !EN CONTINU à partir de 17h : Interventions impromptues des comédiens de la troupe des RéActeurs – Atelier de la bibliothèque « La Baleine » – Jeux en bois – Les chichis et barbes à papa de Charlotte – Buvette associative – stand des pompiers d’Ars en Ré. \n\n\n\n18h : La dictée d’Olivier18h30 démonstration de l’école de danse « let’s dance »19h : Concert des IAVNANA19h30 : Apéritif offert par la municipalité20h : repas : barbecue partagé: apportez vos légumes et viandes à griller ! Ou votre piquenique.20h30 : Le quiz !AU FIL DE LA SOIRÉE : Tour de chant de TEO FLAMENCO AU FIL DE LA SOIRÉE : Danse du feu de VINYE22h30 Bal DJNous vous attendons nombreux !Gratuit pour les petits et les grands.
URL:https://saintclementdesbaleines.fr/event/le-printemps-des-baleines-la-fete-des-villageois-3/
LOCATION:Petit Clos de la Mairie\, Mairie de Saint-Clément-des-Baleines\, clos de la Mairie\, Saint-Clément-des-Baleines\, 17590\, France
ATTACH;FMTTYPE=image/png:https://saintclementdesbaleines.fr/wp-content/uploads/2025/04/Printemps-des-Baleines-2025.png
END:VEVENT
END:VCALENDAR