BEGIN:VCALENDAR
VERSION:2.0
PRODID:-//Mairie Saint-Clément-des-Baleines - ECPv6.15.20//NONSGML v1.0//EN
CALSCALE:GREGORIAN
METHOD:PUBLISH
X-ORIGINAL-URL:https://saintclementdesbaleines.fr
X-WR-CALDESC:Évènements pour Mairie Saint-Clément-des-Baleines
REFRESH-INTERVAL;VALUE=DURATION:PT1H
X-Robots-Tag:noindex
X-PUBLISHED-TTL:PT1H
BEGIN:VTIMEZONE
TZID:Europe/Paris
BEGIN:DAYLIGHT
TZOFFSETFROM:+0100
TZOFFSETTO:+0200
TZNAME:CEST
DTSTART:20240331T010000
END:DAYLIGHT
BEGIN:STANDARD
TZOFFSETFROM:+0200
TZOFFSETTO:+0100
TZNAME:CET
DTSTART:20241027T010000
END:STANDARD
BEGIN:DAYLIGHT
TZOFFSETFROM:+0100
TZOFFSETTO:+0200
TZNAME:CEST
DTSTART:20250330T010000
END:DAYLIGHT
BEGIN:STANDARD
TZOFFSETFROM:+0200
TZOFFSETTO:+0100
TZNAME:CET
DTSTART:20251026T010000
END:STANDARD
BEGIN:DAYLIGHT
TZOFFSETFROM:+0100
TZOFFSETTO:+0200
TZNAME:CEST
DTSTART:20260329T010000
END:DAYLIGHT
BEGIN:STANDARD
TZOFFSETFROM:+0200
TZOFFSETTO:+0100
TZNAME:CET
DTSTART:20261025T010000
END:STANDARD
END:VTIMEZONE
BEGIN:VEVENT
DTSTART;TZID=Europe/Paris:20251018T203000
DTEND;TZID=Europe/Paris:20251018T220000
DTSTAMP:20260423T200520
CREATED:20251008T143309Z
LAST-MODIFIED:20251008T154958Z
UID:7629-1760819400-1760824800@saintclementdesbaleines.fr
SUMMARY:Théatre par les RéActeurs
DESCRIPTION:Les RéActeurs vous présentent « Alors Là\, Bravo ! »Participation libre au profit d’Octobre Rose
URL:https://saintclementdesbaleines.fr/event/theatre/
LOCATION:Salle municipale\, Mairie de Saint-Clément-des-Baleines\, Salle municipale\, Saint-Clément-des-Baleines\, 17590\, France
ATTACH;FMTTYPE=image/jpeg:https://saintclementdesbaleines.fr/wp-content/uploads/2025/10/theatre-18-10-2025.jpg
END:VEVENT
BEGIN:VEVENT
DTSTART;TZID=Europe/Paris:20251025T200000
DTEND;TZID=Europe/Paris:20251025T220000
DTSTAMP:20260423T200520
CREATED:20251008T142858Z
LAST-MODIFIED:20251008T142858Z
UID:7626-1761422400-1761429600@saintclementdesbaleines.fr
SUMMARY:LOTO du Comité des Fêtes Villageoises
DESCRIPTION:
URL:https://saintclementdesbaleines.fr/event/loto-du-comite-des-fetes-villageoises-2/
LOCATION:Salle Albert PROFILET – le Godinand\, rue du Godinand\, Saint-Clément-des-Baleines\, 17590\, France
ATTACH;FMTTYPE=image/jpeg:https://saintclementdesbaleines.fr/wp-content/uploads/2025/10/Affiche-LOTO-25-octobre-2025.jpg
END:VEVENT
END:VCALENDAR