BEGIN:VCALENDAR
VERSION:2.0
PRODID:-//Mairie Saint-Clément-des-Baleines - ECPv6.15.20//NONSGML v1.0//EN
CALSCALE:GREGORIAN
METHOD:PUBLISH
X-WR-CALNAME:Mairie Saint-Clément-des-Baleines
X-ORIGINAL-URL:https://saintclementdesbaleines.fr
X-WR-CALDESC:Évènements pour Mairie Saint-Clément-des-Baleines
REFRESH-INTERVAL;VALUE=DURATION:PT1H
X-Robots-Tag:noindex
X-PUBLISHED-TTL:PT1H
BEGIN:VTIMEZONE
TZID:Europe/Paris
BEGIN:DAYLIGHT
TZOFFSETFROM:+0100
TZOFFSETTO:+0200
TZNAME:CEST
DTSTART:20240331T010000
END:DAYLIGHT
BEGIN:STANDARD
TZOFFSETFROM:+0200
TZOFFSETTO:+0100
TZNAME:CET
DTSTART:20241027T010000
END:STANDARD
BEGIN:DAYLIGHT
TZOFFSETFROM:+0100
TZOFFSETTO:+0200
TZNAME:CEST
DTSTART:20250330T010000
END:DAYLIGHT
BEGIN:STANDARD
TZOFFSETFROM:+0200
TZOFFSETTO:+0100
TZNAME:CET
DTSTART:20251026T010000
END:STANDARD
BEGIN:DAYLIGHT
TZOFFSETFROM:+0100
TZOFFSETTO:+0200
TZNAME:CEST
DTSTART:20260329T010000
END:DAYLIGHT
BEGIN:STANDARD
TZOFFSETFROM:+0200
TZOFFSETTO:+0100
TZNAME:CET
DTSTART:20261025T010000
END:STANDARD
END:VTIMEZONE
BEGIN:VEVENT
DTSTART;TZID=Europe/Paris:20251206T100000
DTEND;TZID=Europe/Paris:20251206T180000
DTSTAMP:20260423T232321
CREATED:20251104T153854Z
LAST-MODIFIED:20251104T153855Z
UID:7653-1765015200-1765044000@saintclementdesbaleines.fr
SUMMARY:Marché de Noël des arts créatifs
DESCRIPTION:Une date à retenir dans vos agendas le samedi 6 décembre 2025 \n\n\n\nL’atelier d’arts créatifs du Club Villageois organisera son marché de Noël ce samedi de 10H00 à 18H00 à Saint Clément des Baleines dans la salle Albert Profilet  (salle du Godinand). \n\n\n\nUne trentaine d’exposants sont attendus couvrant de nombreux domaines des arts créatifs : couture\, céramique\, bois\, métal\, cartonnage\, peinture sur toile\, dentelle au fuseau\, sacs en matériaux recyclés\, bijoux\, nœuds marins et déco marine… Aucun stand ne proposera de nourriture. \n\n\n\nLes visiteurs pourront penser à leurs cadeaux de Noël dans une ambiance festive et chaleureuse. Des idées originales à tous les prix. \n\n\n\nBien entendu le stand de l’atelier d’arts créatifs du Club Villageois présentera à la vente les réalisations de ses membres. \n\n\n\nUne tombola en fin d’après-midi permettra même de gagner des lots offerts par les différents exposants. A cette fin chaque visiteur se verra remettre un ticket de tombola lors de son accueil dans la salle. \n\n\n\nVenez nombreux vous ne serez pas déçus.
URL:https://saintclementdesbaleines.fr/event/marche-de-noel-des-arts-creatifs/
LOCATION:Salle Albert PROFILET – le Godinand\, rue du Godinand\, Saint-Clément-des-Baleines\, 17590\, France
ATTACH;FMTTYPE=image/png:https://saintclementdesbaleines.fr/wp-content/uploads/2025/11/AFFICHE-Marche-de-Noel.png
END:VEVENT
END:VCALENDAR